BEGIN:VCALENDAR
VERSION:2.0
PRODID:-//Kayan International High School - ECPv6.15.20//NONSGML v1.0//EN
CALSCALE:GREGORIAN
METHOD:PUBLISH
X-WR-CALNAME:Kayan International High School
X-ORIGINAL-URL:https://kihs.edu.lb
X-WR-CALDESC:Events for Kayan International High School
REFRESH-INTERVAL;VALUE=DURATION:PT1H
X-Robots-Tag:noindex
X-PUBLISHED-TTL:PT1H
BEGIN:VTIMEZONE
TZID:Asia/Beirut
BEGIN:DAYLIGHT
TZOFFSETFROM:+0200
TZOFFSETTO:+0300
TZNAME:EEST
DTSTART:20240330T220000
END:DAYLIGHT
BEGIN:STANDARD
TZOFFSETFROM:+0300
TZOFFSETTO:+0200
TZNAME:EET
DTSTART:20241026T210000
END:STANDARD
BEGIN:DAYLIGHT
TZOFFSETFROM:+0200
TZOFFSETTO:+0300
TZNAME:EEST
DTSTART:20250329T220000
END:DAYLIGHT
BEGIN:STANDARD
TZOFFSETFROM:+0300
TZOFFSETTO:+0200
TZNAME:EET
DTSTART:20251025T210000
END:STANDARD
BEGIN:DAYLIGHT
TZOFFSETFROM:+0200
TZOFFSETTO:+0300
TZNAME:EEST
DTSTART:20260328T220000
END:DAYLIGHT
BEGIN:STANDARD
TZOFFSETFROM:+0300
TZOFFSETTO:+0200
TZNAME:EET
DTSTART:20261024T210000
END:STANDARD
BEGIN:DAYLIGHT
TZOFFSETFROM:+0200
TZOFFSETTO:+0300
TZNAME:EEST
DTSTART:20270327T220000
END:DAYLIGHT
BEGIN:STANDARD
TZOFFSETFROM:+0300
TZOFFSETTO:+0200
TZNAME:EET
DTSTART:20271030T210000
END:STANDARD
END:VTIMEZONE
BEGIN:VEVENT
DTSTART;VALUE=DATE:20251210
DTEND;VALUE=DATE:20260106
DTSTAMP:20260423T233046
CREATED:20251218T142023Z
LAST-MODIFIED:20251219T055447Z
UID:1861-1765324800-1767657599@kihs.edu.lb
SUMMARY:Science Day Sparks Curiosity at KIHS
DESCRIPTION:
URL:https://kihs.edu.lb/event/science-day-sparks-curiosity-at-kihs/
LOCATION:School Campus\, Abra\, Saida\, Lebanon
CATEGORIES:School Event
ATTACH;FMTTYPE=image/jpeg:https://kihs.edu.lb/wp-content/uploads/2022/11/DefaultSchoolFeaturedImage1.jpg
END:VEVENT
BEGIN:VEVENT
DTSTART;VALUE=DATE:20250715
DTEND;VALUE=DATE:20250717
DTSTAMP:20260423T233046
CREATED:20250412T202604Z
LAST-MODIFIED:20250621T143843Z
UID:5837-1752537600-1752710399@kihs.edu.lb
SUMMARY:Math Olympiad Challenges Young Minds
DESCRIPTION:
URL:https://kihs.edu.lb/event/math-olympiad-challenges-young-minds/
LOCATION:School Campus\, Abra\, Saida\, Lebanon
CATEGORIES:School Event
ATTACH;FMTTYPE=image/jpeg:https://kihs.edu.lb/wp-content/uploads/2022/11/DefaultSchoolFeaturedImage1.jpg
END:VEVENT
BEGIN:VEVENT
DTSTART;VALUE=DATE:20250715
DTEND;VALUE=DATE:20250717
DTSTAMP:20260423T233046
CREATED:20250412T202245Z
LAST-MODIFIED:20250621T143916Z
UID:5833-1752537600-1752710399@kihs.edu.lb
SUMMARY:Spelling Bee Championship Draws a Buzz
DESCRIPTION:
URL:https://kihs.edu.lb/event/spelling-bee-championship-draws-a-buzz/
LOCATION:School Campus\, Abra\, Saida\, Lebanon
CATEGORIES:School Event
ATTACH;FMTTYPE=image/jpeg:https://kihs.edu.lb/wp-content/uploads/2022/11/DefaultSchoolFeaturedImage2.jpg
END:VEVENT
BEGIN:VEVENT
DTSTART;VALUE=DATE:20250613
DTEND;VALUE=DATE:20250615
DTSTAMP:20260423T233046
CREATED:20250412T194925Z
LAST-MODIFIED:20250412T203702Z
UID:5827-1749772800-1749945599@kihs.edu.lb
SUMMARY:Independence Day Celebration Unites School Spirit
DESCRIPTION:
URL:https://kihs.edu.lb/event/independence-day-celebration-unites-school-spirit/
LOCATION:School Campus\, Abra\, Saida\, Lebanon
CATEGORIES:School Event
ATTACH;FMTTYPE=image/jpeg:https://kihs.edu.lb/wp-content/uploads/2022/11/DefaultSchoolFeaturedImage2.jpg
END:VEVENT
BEGIN:VEVENT
DTSTART;VALUE=DATE:20250501
DTEND;VALUE=DATE:20250503
DTSTAMP:20260423T233046
CREATED:20250412T203656Z
LAST-MODIFIED:20250412T203656Z
UID:5841-1746057600-1746230399@kihs.edu.lb
SUMMARY:Breast Cancer Awareness Day Inspires Compassion
DESCRIPTION:
URL:https://kihs.edu.lb/event/breast-cancer-awareness-day-inspires-compassion/
LOCATION:School Campus\, Abra\, Saida\, Lebanon
CATEGORIES:School Event
ATTACH;FMTTYPE=image/jpeg:https://kihs.edu.lb/wp-content/uploads/2022/11/DefaultSchoolFeaturedImage1.jpg
END:VEVENT
END:VCALENDAR